BEGIN:VCALENDAR
VERSION:2.0
PRODID:-//Illinois Paddling Council - ECPv6.15.20//NONSGML v1.0//EN
CALSCALE:GREGORIAN
METHOD:PUBLISH
X-ORIGINAL-URL:https://illinoispaddling.org
X-WR-CALDESC:Events for Illinois Paddling Council
REFRESH-INTERVAL;VALUE=DURATION:PT1H
X-Robots-Tag:noindex
X-PUBLISHED-TTL:PT1H
BEGIN:VTIMEZONE
TZID:America/Chicago
BEGIN:DAYLIGHT
TZOFFSETFROM:-0600
TZOFFSETTO:-0500
TZNAME:CDT
DTSTART:20240310T080000
END:DAYLIGHT
BEGIN:STANDARD
TZOFFSETFROM:-0500
TZOFFSETTO:-0600
TZNAME:CST
DTSTART:20241103T070000
END:STANDARD
BEGIN:DAYLIGHT
TZOFFSETFROM:-0600
TZOFFSETTO:-0500
TZNAME:CDT
DTSTART:20250309T080000
END:DAYLIGHT
BEGIN:STANDARD
TZOFFSETFROM:-0500
TZOFFSETTO:-0600
TZNAME:CST
DTSTART:20251102T070000
END:STANDARD
BEGIN:DAYLIGHT
TZOFFSETFROM:-0600
TZOFFSETTO:-0500
TZNAME:CDT
DTSTART:20260308T080000
END:DAYLIGHT
BEGIN:STANDARD
TZOFFSETFROM:-0500
TZOFFSETTO:-0600
TZNAME:CST
DTSTART:20261101T070000
END:STANDARD
END:VTIMEZONE
BEGIN:VEVENT
DTSTART;TZID=America/Chicago:20250907T083000
DTEND;TZID=America/Chicago:20250907T170000
DTSTAMP:20260421T152829
CREATED:20250711T015315Z
LAST-MODIFIED:20250711T015315Z
UID:3486-1757233800-1757264400@illinoispaddling.org
SUMMARY:Joe Kowsky Memorial DuPage River Race
DESCRIPTION:Come and challenge your canoe\, kayak\, racing skills at the Illinois Paddling DuPage / Channahon Canoe\, Kayak and SUP Race at Channahon State Park 25302 W Story St\, Channahon\, IL 60410. (41.423997950549754\, -88.22776508622594) \n\nThis is a 7 mile upstream downstream race so no shuttling is required because the race starts and ends in the same location.\n\nRegistration cost is $20. \n\n\n\n\nRegistration is done on the Day of the Race and opens at 8:30AM. \n\nThis race counts points towards for the IPC traveling trophies.
URL:https://illinoispaddling.org/event/joe-kowsky-memorial-dupage-river-race/
LOCATION:channahon state park\, 25302 W Story St\, Channahon\, IL\, 60410\, United States
CATEGORIES:Paddling,Race
ATTACH;FMTTYPE=image/jpeg:https://illinoispaddling.org/wp-content/uploads/2022/10/Racing-start-image-St.-Charles-Fall-Classic-1.jpg
END:VEVENT
BEGIN:VEVENT
DTSTART;TZID=America/Chicago:20250921T080000
DTEND;TZID=America/Chicago:20250921T170000
DTSTAMP:20260421T152829
CREATED:20250607T192305Z
LAST-MODIFIED:20250607T202254Z
UID:3427-1758441600-1758474000@illinoispaddling.org
SUMMARY:IPC - Vic Hopp Memorial  Canoe\, Kayak & SUP Race
DESCRIPTION:Come and challenge your canoe\, kayak\, racing skills at the Illinois Paddling Council Vic Hopp Memorial Canoe\, Kayak and SUP Race at Fox River County Park Boat Landing\, 29875 Silver Lake Rd\, Burlington\, WI 53105. (42.54089008506918\, -88.17149252136538) This is a 10 mile or 6 mile  downstream upstream race so no shuttling is required because the race starts and ends in the same location.
URL:https://illinoispaddling.org/event/ipc-vic-hopp-memorial-canoe-kayak-sup-race/
LOCATION:Fox River County Park Boat Landing\, 29875 Silver Lake Rd\, Burlington\, WI\, 53105
END:VEVENT
BEGIN:VEVENT
DTSTART;TZID=America/Chicago:20250928T080000
DTEND;TZID=America/Chicago:20250928T170000
DTSTAMP:20260421T152829
CREATED:20250607T192649Z
LAST-MODIFIED:20250607T202310Z
UID:3429-1759046400-1759078800@illinoispaddling.org
SUMMARY:Fall Classic Race
DESCRIPTION:Come and challenge your canoe\, kayak\, sup\, and rowing racing skills at the St Charles Canoe Club Fall Classic Race at Ferson Creek Park\, St Charles IL. There are morning and afternoon races. You bring a boat we will have a class for it. Registration is the day of race. The morning race starts at 9:30AM and the afternoon race starts at 1:00PM. (The race is only one day Sunday only)  \nRace includes a short course for the Recreation Kayak Class and anyone who does not want to enter the long course. Short Course is 5 miles and the Long Course is 9 miles. All races begin and end at Ferson Creek Park\, no shuttling is required. Race is also open for rowing as well. We will add classes for other boat types as needed. The course is all deep water. (You will need to bring your own boat as rental boats are not officially available for the event)  \nRegistration cost is $20 for doing one or two races. Registration is done on the Day of the Race and opens at 8:00AM.  \n\n\n\n\n\n\n\n\n“You bring it we will have a class for it”   We look forward to seeing you!
URL:https://illinoispaddling.org/event/fall-classic-race-2/
LOCATION:Ferson Creek Park\, Route 31\, St. Charles\, IL
END:VEVENT
END:VCALENDAR