BEGIN:VCALENDAR
VERSION:2.0
PRODID:-//Illinois Paddling Council - ECPv6.15.20//NONSGML v1.0//EN
CALSCALE:GREGORIAN
METHOD:PUBLISH
X-WR-CALNAME:Illinois Paddling Council
X-ORIGINAL-URL:https://illinoispaddling.org
X-WR-CALDESC:Events for Illinois Paddling Council
REFRESH-INTERVAL;VALUE=DURATION:PT1H
X-Robots-Tag:noindex
X-PUBLISHED-TTL:PT1H
BEGIN:VTIMEZONE
TZID:America/Denver
BEGIN:DAYLIGHT
TZOFFSETFROM:-0700
TZOFFSETTO:-0600
TZNAME:MDT
DTSTART:20210314T090000
END:DAYLIGHT
BEGIN:STANDARD
TZOFFSETFROM:-0600
TZOFFSETTO:-0700
TZNAME:MST
DTSTART:20211107T080000
END:STANDARD
BEGIN:DAYLIGHT
TZOFFSETFROM:-0700
TZOFFSETTO:-0600
TZNAME:MDT
DTSTART:20220313T090000
END:DAYLIGHT
BEGIN:STANDARD
TZOFFSETFROM:-0600
TZOFFSETTO:-0700
TZNAME:MST
DTSTART:20221106T080000
END:STANDARD
BEGIN:DAYLIGHT
TZOFFSETFROM:-0700
TZOFFSETTO:-0600
TZNAME:MDT
DTSTART:20230312T090000
END:DAYLIGHT
BEGIN:STANDARD
TZOFFSETFROM:-0600
TZOFFSETTO:-0700
TZNAME:MST
DTSTART:20231105T080000
END:STANDARD
END:VTIMEZONE
BEGIN:VEVENT
DTSTART;TZID=America/Denver:20221112T053000
DTEND;TZID=America/Denver:20221112T200000
DTSTAMP:20260421T214103
CREATED:20221018T201134Z
LAST-MODIFIED:20221028T203555Z
UID:2199-1668231000-1668283200@illinoispaddling.org
SUMMARY:Prairie State Canoeists Fall Dinner and Meeting
DESCRIPTION:Prairie State Canoeists \nFall Dinner & Meeting \nSaturday evening\, November 12\nVilla Olivia\n1401 West Lake Street\, Bartlett\, Illinois 60103 \n______________________\n \n\n\n\n\n\n\n\n\n\n\n\n\n\n\n\n\n\n\n\n\n\n\n\n\n\n\n\n\n\n\n\n\n\n\n\n\n\n\n\n\n\n\n\n\n\n\n\n\n\nDon’t wait. Make your reservation for the\nAnnual PSC Fall Dinner and Meeting. \n\nThe cost is $35.00\, with your choice of a chicken or pasta entree. The entire menu and other details are available on the PSC web site\, including the portal for paying. Click on PSC Annual Good Time \nSocial Time @ 5:30 PM (cash bar)\nDinner @ 6:15 PM\nMeeting and Elections @ 7:15 PM\nProgram @ 7:30 PM\nThe PSC Board will meet at 4:00 PM; interested members may attend. \nOur Guest Speaker will be a representative from  \nThis organization was founded in 1998 to protect\, preserve\, and restore the natural environment.  LL&W has since worked on 24 rivers in 21 states by sponsoring river clean-ups. Click on LL&W for more information about this organization. \n\n______________
URL:https://illinoispaddling.org/event/prairie-state-canoeists-fall-dinner-and-meeting/
CATEGORIES:Annual Dinner,Meeting
ATTACH;FMTTYPE=image/png:https://illinoispaddling.org/wp-content/uploads/2022/10/PSC-logo.png
END:VEVENT
BEGIN:VEVENT
DTSTART;TZID=America/Denver:20221105T180000
DTEND;TZID=America/Denver:20221105T200000
DTSTAMP:20260421T214103
CREATED:20221028T194803Z
LAST-MODIFIED:20221028T200302Z
UID:2252-1667671200-1667678400@illinoispaddling.org
SUMMARY:IPC's Annual "Gathering of the Paddlers" Dinner
DESCRIPTION:  \nIPC Annual Dinner 2022\nThe Gathering of the Paddlers\nB. Harley Bradley House\, Kankakee IL\nNov 5\, 6-8pm\nFeatured presentation:\nThe African-American History Water Trail on the Little Calumet and Cal Sag Channel\nLaura Barghusen\, Openlands\nMike Taylor\, Water Trail Keeper\, Little Calument River\nAnd updates on:\n\nChanges to Illinois Water Access Law\nStatewide River Mapping Initiative\nJoliet-Marquette 350 Expedition\n…and more\n\nJoin us Saturday\, November 5\, 6-8pm\nAt the Frank Lloyd Wright designed B. Harley Bradley House\n701 S Harrison Ave\nKankakee\, IL 60901\nA fried chicken dinner with delicious sides\, including their famous macaroni salad\, will be provided buffet style by local favorite JR’s Chicken of Kankakee with a vegetarian mostaccioli option for those that prefer.\n  \nTickets: $25 per person – includes 2023 Membership in the Illinois Paddling Council \n\n \n\n\n\nIPC Annual Dinner Reservation\n\n\nAnnual Dinner w/ 2023 Membership $25.00 USD\n\n\n\n\n\n \nOr to pay at the door with cash or check\, send email to sphays12@gmail.com \n\n 
URL:https://illinoispaddling.org/event/ipcs-annual-gathering-of-the-paddlers-dinner/
LOCATION:B. Harley Bradley House\, 701 S. Harrison Avenue\, Kankakee\, IL\, 60901\, United States
CATEGORIES:Annual Dinner,Meeting,Paddling
ATTACH;FMTTYPE=image/jpeg:https://illinoispaddling.org/wp-content/uploads/2022/10/Gathering-of-the-Paddlers-graphic-2.jpg
END:VEVENT
END:VCALENDAR